BEGIN:VCALENDAR
PRODID:-//Bizzabo//EN
VERSION:2.0
BEGIN:VEVENT
UID:event-552066
ORGANIZER;CN="Tackling the Growing Global Food Crisis":mailto:ftlive@ft.com
DTSTAMP:20260421T162926Z
DTSTART:20231128T140000Z
DTEND:20231128T145000Z
SUMMARY:Tackling the Growing Global Food Crisis
DESCRIPTION:Climate change is fuelling a global hunger crisis. Without u
 rgent action, the world will not be able to adapt to the imp
 acts of climate change and billions of people will go hungry
 . Around the world today, nearly 350 million people are affe
 cted by extreme hunger. As the global population surpasses 9
  billion people by 2050, it is forecasted that food producti
 on will need to increase 60% to meet growing demand, and in 
 a world that is 2°C warmer, an additional 189 million people
  will face hunger too. The creation of resilient food system
 s is therefore vital to protect livelihoods, safeguard envir
 onments and ensure adequate nutrition for all.\n\nIn this we
 binar, sponsored by CGIAR, join us as we seek to determine h
 ow best to address the current food crisis and meet the dema
 nds of a changing climate, delivering solutions that will he
 lp the world achieve its ambitious climate targets while pro
 tecting those most affected by the growing food crisis. \n\n
 https://attendees.bizzabo.com/552066/agenda
LOCATION:Digital Conference
END:VEVENT
END:VCALENDAR